BEGIN:VCALENDAR
VERSION:2.0
PRODID:-//ChamberMaster//Event Calendar 2.0//EN
METHOD:PUBLISH
X-PUBLISHED-TTL:P1H
REFRESH-INTERVAL:P1H
CALSCALE:GREGORIAN
BEGIN:VTIMEZONE
TZID:America/New_York
BEGIN:DAYLIGHT
RRULE:FREQ=YEARLY;BYMONTH=3;BYDAY=2SU
DTSTART:20070101T000000
TZOFFSETFROM:-0500
TZOFFSETTO:-0400
TZNAME:Eastern Daylight Time
END:DAYLIGHT
BEGIN:STANDARD
RRULE:FREQ=YEARLY;BYMONTH=11;BYDAY=1SU
DTSTART:20070101T000000
TZOFFSETFROM:-0400
TZOFFSETTO:-0500
TZNAME:Eastern Standard Time
END:STANDARD
END:VTIMEZONE
BEGIN:VEVENT
DTSTART;TZID=America/New_York:20260930T113000
DTEND;TZID=America/New_York:20260930T130000
X-MICROSOFT-CDO-ALLDAYEVENT:FALSE
SUMMARY:Fall Business Book Club - Buy Back Your Time
DESCRIPTION:Our Southfield Area Chamber Business Book Club is diving into Buy Back Your Time by Dan Martell a powerful guide for business owners ready to scale smarter\, not harder. This conversation is centered on reclaiming your time\, delegating effectively\, and building systems that allow you to operate in your highest value. If you're ready to stop being the bottleneck in your business and start leading with intention\, this is your invitation to grow alongside like-minded professionals.
X-ALT-DESC;FMTTYPE=text/html:<!DOCTYPE html><html><head><title></title></head><body aria-disabled="false"><p>Our Southfield Area Chamber Business Book Club is diving into <em data-end="85" data-start="46">Buy Back Your Time</em> by Dan Martell&mdash\;a powerful guide for business owners ready to scale smarter\, not harder. This conversation is centered on reclaiming your time\, delegating effectively\, and building systems that allow you to operate in your highest value. If you&rsquo\;re ready to stop being the bottleneck in your business and start leading with intention\, this is your invitation to grow alongside like-minded professionals. </p></body></html>
LOCATION:26261 Evergreen Rd. Suite 180 Southfield MI 48076
UID:e.1048.1437555
SEQUENCE:3
DTSTAMP:20260422T213256Z
URL:https://members.southfieldchamber.com/events/Details/fall-business-book-club-buy-back-your-time-1701499?sourceTypeId=Hub
END:VEVENT
END:VCALENDAR
