BEGIN:VCALENDAR
VERSION:2.0
PRODID:-//ChamberMaster//Event Calendar 2.0//EN
METHOD:PUBLISH
X-PUBLISHED-TTL:P1H
REFRESH-INTERVAL:P1H
CALSCALE:GREGORIAN
BEGIN:VTIMEZONE
TZID:America/New_York
BEGIN:DAYLIGHT
RRULE:FREQ=YEARLY;BYMONTH=3;BYDAY=2SU
DTSTART:20070101T000000
TZOFFSETFROM:-0500
TZOFFSETTO:-0400
TZNAME:Eastern Daylight Time
END:DAYLIGHT
BEGIN:STANDARD
RRULE:FREQ=YEARLY;BYMONTH=11;BYDAY=1SU
DTSTART:20070101T000000
TZOFFSETFROM:-0400
TZOFFSETTO:-0500
TZNAME:Eastern Standard Time
END:STANDARD
END:VTIMEZONE
BEGIN:VEVENT
DTSTART;TZID=America/New_York:20270413T090000
DTEND;TZID=America/New_York:20270413T103000
X-MICROSOFT-CDO-ALLDAYEVENT:FALSE
SUMMARY:Quarterly Strategic Planning Session - F.O.G. Mapping for Small Businesses
DESCRIPTION:Quarterly FOG Mapping Intensive: Financial\, Operations\, and Growth Strategic Planning Session Get ready to elevate your business to new heights with our 2025 FOG Mapping session an in-depth\, results-driven strategic planning experience designed to address the core pillars of small business success: Financials\, Operations\, and Growth (FOG). \nThis working session is crafted specifically for small business owners ready to sharpen their financial acumen\, streamline operations\, and implement growth strategies that drive profitability and sustainability. In this immersive\, action-oriented workshop\, you'll work closely with industry experts and fellow entrepreneurs to map out a tailored plan to: - Master Financial Insights: Learn to analyze and leverage financial data to make informed decisions\, manage cash flow\, and enhance your bottom line. - Optimize Operations: Identify areas for operational efficiency and workflow improvements that reduce costs and boost productivity. - Develop a Scalable Growth Strategy: Craft a targeted growth roadmap that aligns with your business goals\, strengthens your brand\, and attracts new customers. Whether you're just starting out or seeking to overcome growth challenges\, the FOG Mapping session provides you with the tools\, resources\, and strategies to move your business forward with confidence and clarity. Let's build a robust foundation for your business in 2025 and beyond!
X-ALT-DESC;FMTTYPE=text/html:Quarterly FOG Mapping Intensive: Financial\, Operations\, and Growth Strategic Planning Session Get ready to elevate your business to new heights with our 2025 FOG Mapping session an in-depth\, results-driven strategic planning experience designed to address the core pillars of small business success: Financials\, Operations\, and Growth (FOG).&nbsp\;<p><br></p><p>This working session is crafted specifically for small business owners ready to sharpen their financial acumen\, streamline operations\, and implement growth strategies that drive profitability and sustainability.&nbsp\;</p><p>In this immersive\, action-oriented workshop\, you&#39\;ll work closely with industry experts and fellow entrepreneurs to map out a tailored plan to:</p><p>&nbsp\;- Master Financial Insights: Learn to analyze and leverage financial data to make informed decisions\, manage cash flow\, and enhance your bottom line.&nbsp\;</p><p>- Optimize Operations: Identify areas for operational efficiency and workflow improvements that reduce costs and boost productivity.&nbsp\;</p><p>- Develop a Scalable Growth Strategy: Craft a targeted growth roadmap that aligns with your business goals\, strengthens your brand\, and attracts new customers. Whether you&#39\;re just starting out or seeking to overcome growth challenges\, the FOG Mapping session provides you with the tools\, resources\, and strategies to move your business forward with confidence and clarity.&nbsp\;</p><p>Let&rsquo\;s build a robust foundation for your business in 2025 and beyond!</p>
LOCATION:
UID:e.1048.1119637
SEQUENCE:3
DTSTAMP:20260422T215113Z
URL:https://members.southfieldchamber.com/events/Details/quarterly-strategic-planning-session-f-o-g-mapping-for-small-businesses-1299823?sourceTypeId=Hub
END:VEVENT
END:VCALENDAR
