BEGIN:VCALENDAR
VERSION:2.0
PRODID:-//ChamberMaster//Event Calendar 2.0//EN
METHOD:PUBLISH
X-PUBLISHED-TTL:P1H
REFRESH-INTERVAL:P1H
CALSCALE:GREGORIAN
BEGIN:VTIMEZONE
TZID:America/New_York
BEGIN:DAYLIGHT
RRULE:FREQ=YEARLY;BYMONTH=3;BYDAY=2SU
DTSTART:20070101T000000
TZOFFSETFROM:-0500
TZOFFSETTO:-0400
TZNAME:Eastern Daylight Time
END:DAYLIGHT
BEGIN:STANDARD
RRULE:FREQ=YEARLY;BYMONTH=11;BYDAY=1SU
DTSTART:20070101T000000
TZOFFSETFROM:-0400
TZOFFSETTO:-0500
TZNAME:Eastern Standard Time
END:STANDARD
END:VTIMEZONE
BEGIN:VEVENT
DTSTART;TZID=America/New_York:20260502T073000
DTEND;TZID=America/New_York:20260502T140000
X-MICROSOFT-CDO-ALLDAYEVENT:FALSE
SUMMARY:Walk For Wishes
DESCRIPTION:The 28th Annual Walk For Wishes is a fundraising event held by Make-A-Wish Michigan to support granting life-changing wishes for local children battling critical illnesses. The event aims to raise over $350\,000 this year to help fulfill these wishes\, which range from travel and celebrity meetings to unique experiences like becoming a firefighter. Event Details Date: Saturday\, May 2\, 2026. Location: Detroit Zoo. Registration Fees: * Early (through May 1 at 12 p.m.): $10 for adults\; $5 for kids (ages 3 13). At the Door: $20 for adults\; $10 for kids (ages 3 13). T-Shirt Incentive: Participants who raise a minimum of $100 will receive the official 2026 Walk For Wishes t-shirt. Participant Benefits & Activities Zoo Access: Admission includes access to the Detroit Zoo until 5 p.m.. Kids' Activities: A scavenger hunt with prizes is available for children. Wellness: A warmup and stretch session will be led by team members from Planet Fitness\, the event's lead sponsor. Ways to Get Involved Walk: Start a team with friends\, family\, or colleagues and set a fundraising goal. Virtual Walker: Pledge and walk on your own time\, either individually or as part of a team. Volunteer: Support the walkers on the day of the event. Sponsor: Individuals or companies can provide financial sponsorship for the event. Registration and additional information can be found at walkforwishesmi.org.  or Join HereParticipants are also encouraged to share their progress on social media using the hashtag #WFWDetroit.
X-ALT-DESC;FMTTYPE=text/html:<!DOCTYPE html><html><head><title></title></head><body aria-disabled="false"><p>The 28th Annual Walk For Wishes is a fundraising event held by Make-A-Wish Michigan to support granting life-changing wishes for local children battling critical illnesses. The event aims to raise over $350\,000 this year to help fulfill these wishes\, which range from travel and celebrity meetings to unique experiences like becoming a firefighter. Event Details Date: Saturday\, May 2\, 2026. Location: Detroit Zoo. Registration Fees: * Early (through May 1 at 12 p.m.): $10 for adults\; $5 for kids (ages 3&ndash\;13). At the Door: $20 for adults\; $10 for kids (ages 3&ndash\;13). T-Shirt Incentive: Participants who raise a minimum of $100 will receive the official 2026 Walk For Wishes t-shirt. Participant Benefits &amp\; Activities Zoo Access: Admission includes access to the Detroit Zoo until 5 p.m.. Kids&#39\; Activities: A scavenger hunt with prizes is available for children. Wellness: A warmup and stretch session will be led by team members from Planet Fitness\, the event&rsquo\;s lead sponsor. Ways to Get Involved Walk: Start a team with friends\, family\, or colleagues and set a fundraising goal. Virtual Walker: Pledge and walk on your own time\, either individually or as part of a team. Volunteer: Support the walkers on the day of the event. Sponsor: Individuals or companies can provide financial sponsorship for the event.<strong fr-original-style="" style="font-weight: 700\;">&nbsp\;</strong></p><p><strong fr-original-style="" style="font-weight: 700\;">Registration and additional information can be found at walkforwishesmi.org.</strong>&nbsp\; or&nbsp\;<a fr-original-style="" href="http://walkforwishesmi.org." rel="noopener noreferrer" style="user-select: auto\;" target="_blank">Join Here</a></p><p>Participants are also encouraged to share their progress on social media using the hashtag #WFWDetroit.</p></body></html>
LOCATION:8450 W 10 Mile Rd Royal Oak MI 48067
UID:e.1048.1439602
SEQUENCE:3
DTSTAMP:20260422T213322Z
URL:https://members.southfieldchamber.com/events/Details/walk-for-wishes-1704241?sourceTypeId=Hub
END:VEVENT
END:VCALENDAR
